Workbook

Sheet Note for users
A1: Note for users
A2: Draft Business Plan Financial Calculator
A3: 1.0 About the calculator
A4: The business plan financial calculator will be the tool to generate the financial projection of the business plan based on the certain data inputs. It will be the tool which can be easily used by any professional who understand the basic accounting. The business plan financial calculator will generate following statements automatically based on certain data inputs: 1. Profit and Loss Statement 2. Cash Flow Statement 3. Balance Sheet 4. Depreciation, amortization and tax calculation It will also auto calculate the following financial ratios to understand the viability of the business plan / Full Project Proposal: 1. Break Even Point 2. Internal Rate of Return 3. Net Present Value 4. Return on Capital Employed 5. Project Payback Period 6. DSCR 7.Sensitivity analysis The above ratios will help decision makers for approving the business plan / Full Project Report.
A5: 2.0 Features
A6: 1.0 It helps in preparing financial projections for both type of sub-projects.i.e. Grain and Frutis & Vegetables. 2.0 It can be easily used by any person / professional who understand the basic accounting. 3.0 Assist planners to map marketable surplus of key commodities quickly. 3.0 This tool will generate P & L , Cash flow statement and balance sheet automatically. 4.0 The calculator helps to prepare all categories of business plans envisaged in SMART Project viz. PPs, MAPs, CIIs, Warehousing related) 5.0 It will also calculate all ratios automatically.
A7: 3.0 Preparatory work
A8: 1.0 Please collect basic data of targeted commodities in the cluster accurately (area, productivity and consumption at HH level ) 2.0 Finalize Business activity in consultation with CBO members and officials / experts. 3.0 Accordingly, please add CAPEX details i.e. related to building, machinery and other infrastructure properly. 4.0 In CAPEX SHEET, please refer area and rates mentioned in estimates of civil structures prepared by engineer whereas quotation's in case of machinery and other equipment or material. 5.0 Please write down assumptions clearly for each business activity (example- produce aggregation and bulk marketing in the form of % in Y-1, Y-2.......... )
A9: 4.0 Colour codes used
A10: Colour code | B10: Description
B11: Need to change/Place Values Manually
B12: Need to change figures subject to
A14: 5.0 Guidance note for using calculator
A15: Steps | B15: Sheet name | C15: Process | D15: Sheet No | E15: Remark
A16: A | B16: Sheet in which need to enter data
A17: Step-1 | B17: Grain production details & or F & V production details (Marketable surplus) | C17: Please fill data in yellow colour cells i.e. members no, non-members , average area etc. | D17: Sheet No. 10 for grain and 11 for F & V
A18: Step-2 | B18: CAPEX Details | C18: Kindly fill yellow cells by using rates mentioned in estimates of civil structures and quotation's of machineries and equipment's | D18: Sheet No. 2
A19: Step-3 | B19: Project cost and Means of finance with financial indicators | C19: Please add bank loan per cent if applicable other wise put zero | D19: Sheet No. 1 | E19: Generate automatically
A20: Step-4 | B20: Business activity wise revenue, expenditure and profit calculation
A21: 4.1 | B21: Facility-1 / Business activity -Trading | C21: Please fill necessary details in yellow cells for calculating revenue and expenditure of identified business activities only. | D21: Sheet No. 12
A22: 4.2 | B22: Facility-2 / Business activity - Processing (Grain, pulses, oilseed) | D22: Sheet No. 13
A23: 4.3 | B23: Facility-3 Business activity -Warehouse | D23: Sheet No. 14
A24: 4.4 | B24: Facility-4 Business activity -Custom hiring | D24: Sheet No. 15
A25: 4.5 | B25: Facility-5 Business activity - Agri. Input | D25: Sheet No. 16
A26: 4.6 | B26: Facility-6 Business activity -Processing (Horti. Produce) | D26: Sheet No. 17
A27: Step-5 | B27: Other expenditure and taxes | C27: Please add staff salary and other details in Yellow cell (in 3.1 table only) | D27: Sheet no.3 (Ref. 3.1 table only)
A28: Step-6 | B28: TL repayment schedule | C28: Please add interest rate, tenure and Moratorium Period ( In Month) in green cells | D28: Sheet No. 4
A29: Step-7 | B29: Closing stock and working capital | C29: Please add necessary details in yellow and green cells | D29: Sheet No. 5
A30: B | B30: Auto generating sheets (No need to enter any data)
A31: B1 | B31: Profit and Loss Statement | D31: Sheet No. 6 | E31: Generate automatically
A32: B2 | B32: Cash Flow Statement | D32: Sheet No. 7 | E32: Generate automatically
A33: B3 | B33: Balance Sheet | D33: Sheet No. 8 | E33: Generate automatically
A34: B4 | B34: Financial indicators (IRR, BEP,NPV, ROI, Pay back period, DSCR, sensitivity analysis ) | D34: Sheet No.9 | E34: Generate automatically
A35: B5 | B35: Depreciation, amortization and tax calculation | D35: Sheet No. 3 (Ref. 3.2 & 3.3) | E35: Generate automatically
A36: Step-8 | B36: Copy relevant tables in word file of FPP

Sheet 1.Project Cost and MOF
B2: 1.1 Total Project Cost
B4: Sr. No. | C4: Particular | D4: Amount (Rs.) | E4: Grant (%) | F4: Grant Amount (Rs.)
B5: 1 | C5: ='2.Capex Details'!B2 -> Land and Building | D5: ='2.Capex Details'!G12 -> 16153457 | E5: 0.6 | F5: =D5*E5 -> 9692074
B6: 2 | C6: ='2.Capex Details'!B17 -> Machinery and Equipment | D6: ='2.Capex Details'!G93 -> 32237242 | E6: 0.6 | F6: =D6*E6 -> 19342345
B7: 3 | C7: ='2.Capex Details'!B99 -> Furniture and Fixture | D7: ='2.Capex Details'!F108 -> 0 | E7: 0.6 | F7: =D7*E7 -> 0
B8: 4 | C8: ='2.Capex Details'!B113 -> IT & It Infrastracture | D8: ='2.Capex Details'!F122 -> 0 | E8: 0.6 | F8: =D8*E8 -> 0
B9: 5 | C9: ='2.Capex Details'!B127 -> Transport vehical (Refer van and other) | D9: ='2.Capex Details'!F133 -> 0 | E9: 0.6 | F9: =D9*E9 -> 0
B10: 6 | C10: ='2.Capex Details'!B137 -> Preliminary Expenses | D10: ='2.Capex Details'!D145 -> 383600 | E10: 0.6 | F10: =D10*E10 -> 230160 | L10: pre-operative
B11: 7 | C11: Working Capital | D11: ='5.Closing Stock & W Capital'!E56 -> 1221306.6
B12: Total | D12: =SUM(D5:D11) -> 49995605 | F12: =SUM(F5:F11) -> 29264579
M13: 48
A14: Total Project Costs means the costs incurred or to be incurred by a FPC in connection with or incidental to the Construction and acquisition of assets including preoprtaive expenditure , design, construction and Working Capital | M14: 11.64
M15: =M13+M14 -> 59.64
B16: 1.2 Means of Finance | M16: 19.05
M17: =M15+M16 -> 78.69
B18: Sr. No. | C18: Particular | D18: Bank Loan (% ) | E18: Amount (Rs.)
B19: 1 | C19: Govt. Grant under SMART Project | E19: =F12 -> 29264579
B20: 2 | C20: Bank Finance - Long Term Loan (= Total Project Cost- Smart Grant - Own Contribution) | D20: 0.3 | E20: =+D12-E19-E21 -> 14632290
B21: 3 | C21: Own Contribution (=Fixed Assets*10%)+Working Capital ) | D21: 0.1 | E21: =+SUM(D5:D10)*D21+D11 -> 6098736.5
B22: Total | E22: =SUM(E19:E21) -> 49995605
B24: This sheet provide details of how total project cost will raised
B26: 1.3 Financial Indicators
B27: Sr. No. | C27: Financial ratio | D27: Estimated | E27: Result | F27: Permissible limit
B28: 1 | C28: Break Even Point (BEP) | D28: ='9. Financial indiacators'!C49 -> 0.41653303 | E28: Project Viable | F28: BEP shall be less than 60% | G28: <60%
B29: 2 | C29: Avg. Return on Capital Employed Average (ROCE) | D29: ='9. Financial indiacators'!C85 -> 0.12778932 | E29: Project Viable | F29: RoCE for the project shall be more than 20% | G29: >20%
B30: 3 | C30: Internal Rate of Return (IRR) | D30: ='9. Financial indiacators'!C16 -> 0.10841384 | E30: Project Viable | F30: The project internal rate of return shall be more than 12% | G30: >12%
B31: 4 | C31: Net present value (at a discount rate of 10 per cent) | D31: ='9. Financial indiacators'!C73 -> 1472929.6 | E31: NPV is high and positive at a conservative project life of 7 years | F31: With a discount rate of 10% and a span of 7 operational years, the NPV should be positive | G31: Positive
B32: 5 | C32: Payback period | D32: ='9. Financial indiacators'!D101 -> 4.8594363 | E32: Project Viable | F32: The Pack Back Period (Project/ Equity) shall be less than 7 years | G32: <7 years
B33: 6 | C33: Debt Service Coverage Ratio (DSCR) | D33: ='9. Financial indiacators'!C119 -> 2.1106999 | E33: Project Viable | F33: DSCR shall be more than 2 for better performing project. | G33: >2

Sheet 2.Capex Details
A2: 2.1 | B2: Land and Building
B4: Sr. No. | C4: Particular | D4: Unit | E4: No. of Unit | F4: Rate per unit | G4: Amount (Rs.)
B5: 1 | C5: Land | D5: Sq. ft. | G5: Lease
B6: 2 | C6: Civil Work | G6: 16153457
G7: =E7*F7 -> 0
G8: =E8*F8 -> 0
G9: =E9*F9 -> 0
G10: =E10*F10 -> 0
G11: =E11*F11 -> 0
B12: Total | G12: =SUM(G6:G11) -> 16153457
B15: This Sheet provide details of land and various construction, including area, rate per unit and total amount
A17: 2.2 | B17: Machinery and Equipment
B19: Sr. No. | C19: Description | D19: Capacity | E19: No. Required | F19: Rate | G19: Amount (Rs.) | H19: Total HP
B21: A | C21: Custom Hiring | G21: =E21*F21 -> 0
G22: =E22*F22 -> 0
G23: =E23*F23 -> 0
G24: =E24*F24 -> 0
G25: =E25*F25 -> 0
G26: =E26*F26 -> 0
G27: =E27*F27 -> 0
G28: =E28*F28 -> 0
G29: =E29*F29 -> 0
G30: =E30*F30 -> 0
G31: =E31*F31 -> 0
B32: Subtotal | G32: =SUM(G21:G31) -> 0 | H32: =SUM(H21:H31) -> 0
B33: B | C33: Cold Storage Unit
G34: =E34*F34 -> 0
B35: 1 | C35: Fruit & Vegetable Washer | E35: 1 | F35: 650000 | G35: =+E35*F35 -> 650000
B36: 2 | C36: Inspection Conveyor 10 Mtrs Lg | E36: 1 | F36: 460000 | G36: =+E36*F36 -> 460000
B37: 3 | C37: Bucket Elevator | E37: 1 | F37: 390000 | G37: =+E37*F37 -> 390000
B38: 4 | C38: SS Bifurcation Conveyor | E38: 1 | F38: 210000 | G38: =+E38*F38 -> 210000
B39: 5 | C39: Hot Break System | E39: 1 | F39: 1070000 | G39: =+E39*F39 -> 1070000
B40: 6 | C40: Pulping Unit | E40: 1 | F40: 580000 | G40: =+E40*F40 -> 580000
B41: 7 | C41: Collection Tank 500 ltrs | E41: 1 | F41: 60000 | G41: =+E41*F41 -> 60000
B42: 8 | C42: Screw Pump | E42: 1 | F42: 110000 | G42: =+E42*F42 -> 110000
B43: 9 | C43: Mixing Kettles (500 ltrs) | E43: 2 | F43: 325000 | G43: =+E43*F43 -> 650000
B44: 10 | C44: Screw Pump | E44: 1 | F44: 110000 | G44: =+E44*F44 -> 110000
B45: 11 | C45: Pasteurizer System | E45: 1 | F45: 1030000 | G45: =+E45*F45 -> 1030000
B46: 12 | C46: Kettle (Tilting Type) | E46: 1 | F46: 200000 | G46: =+E46*F46 -> 200000
... B64: 30 | C64: Ink Jet Printer | E64: 1 | F64: 440000 | G64: =+E64*F64 -> 440000
...

Sheet 3.Other Exp & Taxes
A2: 3.1 Schedule of General Admin Expenses
E4: 1 | F4: =(E4*5%)+E4 -> 1.05 | G4: =(F4*5%)+F4 -> 1.1025 | H4: =(G4*5%)+G4 -> 1.157625 | I4: =(H4*5%)+H4 -> 1.2155063 | J4: =(I4*5%)+I4 -> 1.2762816 | K4: =(J4*5%)+J4 -> 1.3400956
A6: Particulars | B6: Unit | C6: No.of Unit | D6: Unit Cost | E6: Y1 | F6: Y2 | G6: Y3 | H6: Y4 | I6: Y5 | J6: Y6 | K6: Y7
A8: Manager | B8: No. | C8: 1 | D8: 20000 | E8: =$C8*$D8*12*E$4 -> 240000 | F8: =$C8*$D8*12*F$4 -> 252000 | G8: =$C8*$D8*12*G$4 -> 264600 | H8: =$C8*$D8*12*H$4 -> 277830 | I8: =$C8*$D8*12*I$4 -> 291721.5 | J8: =$C8*$D8*12*J$4 -> 306307.58 | K8: =$C8*$D8*12*K$4 -> 321622.95
A9: Accountant | B9: No. | C9: 1 | D9: 15000 | E9: =$C9*$D9*12*E$4 -> 180000 | F9: =$C9*$D9*12*F$4 -> 189000 | G9: =$C9*$D9*12*G$4 -> 198450 | H9: =$C9*$D9*12*H$4 -> 208372.5 | I9: =$C9*$D9*12*I$4 -> 218791.13 | J9: =$C9*$D9*12*J$4 -> 229730.68 | K9: =$C9*$D9*12*K$4 -> 241217.22
A10: Watchmen | B10: No. | C10: 2 | D10: 12000 | E10: =$C10*$D10*12*E$4 -> 288000 | F10: =$C10*$D10*12*F$4 -> 302400 | G10: =$C10*$D10*12*G$4 -> 317520 | H10: =$C10*$D10*12*H$4 -> 333396 | I10: =$C10*$D10*12*I$4 -> 350065.8 | J10: =$C10*$D10*12*J$4 -> 367569.09 | K10: =$C10*$D10*12*K$4 -> 385947.54
A11: Telephone and internet Exp | B11: Months | C11: 12 | D11: 3000 | E11: =$C11*$D11*E$4 -> 36000 | F11: =$C11*$D11*F$4 -> 37800 | G11: =$C11*$D11*G$4 -> 39690 | H11: =$C11*$D11*H$4 -> 41674.5 | I11: =$C11*$D11*I$4 -> 43758.225 | J11: =$C11*$D11*J$4 -> 45946.136 | K11: =$C11*$D11*K$4 -> 48243.443
A12: Office Electricity Exp | B12: Months | C12: 12 | D12: 7000 | E12: =$C12*$D12*E$4 -> 84000 | F12: =$C12*$D12*F$4 -> 88200 | G12: =$C12*$D12*G$4 -> 92610 | H12: =$C12*$D12*H$4 -> 97240.5 | I12: =$C12*$D12*I$4 -> 102102.53 | J12: =$C12*$D12*J$4 -> 107207.65 | K12: =$C12*$D12*K$4 -> 112568.03
A13: Printing & Stationary | B13: Months | C13: 12 | D13: 3000 | E13: =$C13*$D13*E$4 -> 36000 | F13: =$C13*$D13*F$4 -> 37800 | G13: =$C13*$D13*G$4 -> 39690 | H13: =$C13*$D13*H$4 -> 41674.5 | I13: =$C13*$D13*I$4 -> 43758.225 | J13: =$C13*$D13*J$4 -> 45946.136 | K13: =$C13*$D13*K$4 -> 48243.443
A14: Land Lease | B14: Months | C14: 12 | D14: 8400 | E14: =$C14*$D14*E$4 -> 100800 | F14: =$C14*$D14*F$4 -> 105840 | G14: =$C14*$D14*G$4 -> 111132 | H14: =$C14*$D14*H$4 -> 116688.6 | I14: =$C14*$D14*I$4 -> 122523.03 | J14: =$C14*$D14*J$4 -> 128649.18 | K14: =$C14*$D14*K$4 -> 135081.64
A15: Misc.expenses | B15: Months | C15: 12 | D15: 20000 | E15: =$C15*$D15*E$4 -> 240000 | F15: =$C15*$D15*F$4 -> 252000 | G15: =$C15*$D15*G$4 -> 264600 | H15: =$C15*$D15*H$4 -> 277830 | I15: =$C15*$D15*I$4 -> 291721.5 | J15: =$C15*$D15*J$4 -> 306307.58 | K15: =$C15*$D15*K$4 -> 321622.95
A16: Audit and Legal Compliences expenses | B16: Lumsum | C16: 1 | D16: 50000 | E16: =$D16*E$4*$C16 -> 50000 | F16: =$D16*F$4*$C16 -> 52500 | G16: =$D16*G$4*$C16 -> 55125 | H16: =$D16*H$4*$C16 -> 57881.25 | I16: =$D16*I$4*$C16 -> 60775.313 | J16: =$D16*J$4*$C16 -> 63814.078 | K16: =$D16*K$4*$C16 -> 67004.782
E17: =$D17*E$4*$C17 -> 0 | F17: =$D17*F$4*$C17 -> 0 | G17: =$D17*G$4*$C17 -> 0 | H17: =$D17*H$4*$C17 -> 0 | I17: =$D17*I$4*$C17 -> 0 | J17: =$D17*J$4*$C17 -> 0 | K17: =$D17*K$4*$C17 -> 0
E18: =$D18*E$4*$C18 -> 0 | F18: =$D18*F$4*$C18 -> 0 | G18: =$D18*G$4*$C18 -> 0 | H18: =$D18*H$4*$C18 -> 0 | I18: =$D18*I$4*$C18 -> 0 | J18: =$D18*J$4*$C18 -> 0 | K18: =$D18*K$4*$C18 -> 0
E19: =$D19*E$4*$C19 -> 0 | F19: =$D19*F$4*$C19 -> 0 | G19: =$D19*G$4*$C19 -> 0 | H19: =$D19*H$4*$C19 -> 0 | I19: =$D19*I$4*$C19 -> 0 | J19: =$D19*J$4*$C19 -> 0 | K19: =$D19*K$4*$C19 -> 0
E20: =$D20*E$4*$C20 -> 0 | F20: =$D20*F$4*$C20 -> 0 | G20: =$D20*G$4*$C20 -> 0 | H20: =$D20*H$4*$C20 -> 0 | I20: =$D20*I$4*$C20 -> 0 | J20: =$D20*J$4*$C20 -> 0 | K20: =$D20*K$4*$C20 -> 0
E21: =$D21*E$4*$C21 -> 0 | F21: =$D21*F$4*$C21 -> 0 | G21: =$D21*G$4*$C21 -> 0 | H21: =$D21*H$4*$C21 -> 0 | I21: =$D21*I$4*$C21 -> 0 | J21: =$D21*J$4*$C21 -> 0 | K21: =$D21*K$4*$C21 -> 0
E22: =$D22*E$4*$C22 -> 0 | F22: =$D22*F$4*$C22 -> 0 | G22: =$D22*G$4*$C22 -> 0 | H22: =$D22*H$4*$C22 -> 0 | I22: =$D22*I$4*$C22 -> 0 | J22: =$D22*J$4*$C22 -> 0 | K22: =$D22*K$4*$C22 -> 0
A23: Total Admin Expense | E23: =SUM(E8:E22) -> 1254800 | F23: =SUM(F8:F22) -> 1317540 | G23: =SUM(G8:G22) -> 1383417 | H23: =SUM(H8:H22) -> 1452587.9 | I23: =SUM(I8:I22) -> 1525217.2 | J23: =SUM(J8:J22) -> 1601478.1 | K23: =SUM(K8:K22) -> 1681552
A29: 3.2 Depreciation
C31: As per companies Act | K31: As per IT Act
A32: Particulars | C32: Y1 | D32: Y2 | E32: Y3 | F32: Y4 | G32: Y5 | H32: Y6 | I32: Y7 | K32: Y1 | L32: Y2 | M32: Y3 | N32: Y4 | O32: Y5 | P32: Y6 | Q32: Y7
A33: Assets
A36: Building
A37: Asset Value | C37: ='1.Project Cost and MOF'!D5 -> 16153457 | D37: =C40 -> 15641392 | E37: =D40 -> 15129328 | F37: =E40 -> 14617263 | G37: =F40 -> 14105198 | H37: =G40 -> 13593134 | I37: =H40 -> 13081069 | K37: =C37 -> 16153457 | L37: =K40 -> 14538111 | M37: =L40 -> 13084300 | N37: =M40 -> 11775870 | O37: =N40 -> 10598283 | P37: =O40 -> 9538454.7 | Q37: =P40 -> 8584609.2
A38: Depreciation | C38: =$C$37*$B$74 -> 512064.58 | D38: =$C$37*$B$74 -> 512064.58 | E38: =$C$37*$B$74 -> 512064.58 | F38: =$C$37*$B$74 -> 512064.58 | G38: =$C$37*$B$74 -> 512064.58 | H38: =$C$37*$B$74 -> 512064.58 | I38: =$C$37*$B$74 -> 512064.58 | K38: =K37*$C$74 -> 1615345.7 | L38: =L37*$C$74 -> 1453811.1 | M38: =M37*$C$74 -> 1308430 | N38: =N37*$C$74 -> 1177587 | O38: =O37*$C$74 -> 1059828.3 | P38: =P37*$C$74 -> 953845.47 | Q38: =Q37*$C$74 -> 858460.92
A39: Accumulated Depreciation | C39: =C38 -> 512064.58 | D39: =C39+D38 -> 1024129.2 | E39: =D39+E38 -> 1536193.7 | F39: =E39+F38 -> 2048258.3 | G39: =F39+G38 -> 2560322.9 | H39: =G39+H38 -> 3072387.5 | I39: =H39+I38 -> 3584452 | K39: =K38 -> 1615345.7 | L39: =K39+L38 -> 3069156.8 | M39: =L39+M38 -> 4377586.8 | N39: =M39+N38 -> 5555173.8 | O39: =N39+O38 -> 6615002.1 | P39: =O39+P38 -> 7568847.5 | Q39: =P39+Q38 -> 8427308.5
A40: Net Fixed Assets | C40: =C37-C38 -> 15641392 | D40: =D37-D38 -> 15129328 | E40: =E37-E38 -> 14617263 | F40: =F37-F38 -> 14105198 | G40: =G37-G38 -> 13593134 | H40: =H37-H38 -> 13081069 | I40: =I37-I38 -> 12569005 | K40: =K37-K38 -> 14538111 | L40: =L37-L38 -> 13084300 | M40: =M37-M38 -> 11775870 | N40: =N37-N38 -> 10598283 | O40: =O37-O38 -> 9538454.7 | P40: =P37-P38 -> 8584609.2 | Q40: =Q37-Q38 -> 7726148.3
A42: Plant and Machinary
A43: Asset Value | C43: ='1.Project Cost and MOF'!D6 -> 32237242 | D43: =C46 -> 30196625 | E43: =D46 -> 28156007 | F43: =E46 -> 26115390 | G43: =F46 -> 24074772 | H43: =G46 -> 22034155 | I43: =H46 -> 19993537 | K43: =C43 -> 32237242 | L43: =K46 -> 27401656 | M43: =L46 -> 23291407 | N43: =M46 -> 19797696 | O43: =N46 -> 16828042 | P43: =O46 -> 14303836 | Q43: =P46 -> 12158260
A44: Depreciation | C44: =$C$43*$B$78 -> 2040617.4 | D44: =$C$43*$B$78 -> 2040617.4 | E44: =$C$43*$B$78 -> 2040617.4 | F44: =$C$43*$B$78 -> 2040617.4 | G44: =$C$43*$B$78 -> 2040617.4 | H44: =$C$43*$B$78 -> 2040617.4 | I44: =$C$43*$B$78 -> 2040617.4 | K44: =K43*$C$78 -> 4835586.3 | L44: =L43*$C$78 -> 4110248.4 | M44: =M43*$C$78 -> 3493711.1 | N44: =N43*$C$78 -> 2969654.4 | O44: =O43*$C$78 -> 2524206.3 | P44: =P43*$C$78 -> 2145575.3 | Q44: =Q43*$C$78 -> 1823739
A45: Accumulated Depreciation | C45: =C44 -> 2040617.4 | D45: =C45+D44 -> 4081234.8 | E45: =D45+E44 -> 6121852.3 | F45: =E45+F44 -> 8162469.7 | G45: =F45+G44 -> 10203087 | H45: =G45+H44 -> 12243705 | I45: =H45+I44 -> 14284322 | K45: =K44 -> 4835586.3 | L45: =K45+L44 -> 8945834.7 | M45: =L45+M44 -> 12439546 | N45: =M45+N44 -> 15409200 | O45: =N45+O44 -> 17933406 | P45: =O45+P44 -> 20078982 | Q45: =P45+Q44 -> 21902721
A46: Net Fixed Assets | C46: =C43-C44 -> 30196625 | D46: =D43-D44 -> 28156007 | E46: =E43-E44 -> 26115390 | F46: =F43-F44 -> 24074772 | G46: =G43-G44 -> 22034155 | H46: =H43-H44 -> 19993537 | I46: =I43-I44 -> 17952920 | K46: =K43-K44 -> 27401656 | L46: =L43-L44 -> 23291407 | M46: =M43-M44 -> 19797696 | N46: =N43-N44 -> 16828042 | O46: =O43-O44 -> 14303836 | P46: =P43-P44 -> 12158260 | Q46: =Q43-Q44 -> 10334521
A48: Furniture and Electrification
A49: Asset Value | C49: ='1.Project Cost and MOF'!D7 -> 0 | D49: =C52 -> 0 | E49: =D52 -> 0 | F49: =E52 -> 0 | G49: =F52 -> 0 | H49: =G52 -> 0 | I49: =H52 -> 0 | K49: =C49 -> 0 | L49: =K52 -> 0 | M49: =L52 -> 0 | N49: =M52 -> 0 | O49: =N52 -> 0 | P49: =O52 -> 0 | Q49: =P52 -> 0
A50: Depreciation | C50: =$C$49*$B$75 -> 0 | D50: =$C$49*$B$75 -> 0 | E50: =$C$49*$B$75 -> 0 | F50: =$C$49*$B$75 -> 0 | G50: =$C$49*$B$75 -> 0 | H50: =$C$49*$B$75 -> 0 | I50: =$C$49*$B$75 -> 0 | K50: =K49*$C$75 -> 0 | L50: =L49*$C$75 -> 0 | M50: =M49*$C$75 -> 0 | N50: =N49*$C$75 -> 0 | O50: =O49*$C$75 -> 0 | P50: =P49*$C$75 -> 0 | Q50: =Q49*$C$75 -> 0
A51: Accumulated Depreciation | C51: =C50 -> 0 | D51: =C51+D50 -> 0 | E51: =D51+E50 -> 0 | F51: =E51+F50 -> 0 | G51: =F51+G50 -> 0 | H51: =G51+H50 -> 0 | I51: =H51+I50 -> 0 | K51: =K50 -> 0 | L51: =K51+L50 -> 0 | M51: =L51+M50 -> 0 | N51: =M51+N50 -> 0 | O51: =N51+O50 -> 0 | P51: =O51+P50 -> 0 | Q51: =P51+Q50 -> 0
A52: Net Fixed Assets | C52: =C49-C50 -> 0 | D52: =D49-D50 -> 0 | E52: =E49-E50 -> 0 | F52: =F49-F50 -> 0 | G52: =G49-G50 -> 0 | H52: =H49-H50 -> 0 | I52: =I49-I50 -> 0 | K52: =K49-K50 -> 0 | L52: =L49-L50 -> 0 | M52: =M49-M50 -> 0 | N52: =N49-N50 -> 0 | O52: =O49-O50 -> 0 | P52: =P49-P50 -> 0 | Q52: =Q49-Q50 -> 0
A54: Vehical
A55: Asset Value | C55: ='1.Project Cost and MOF'!D9 -> 0 | D55: =C58 -> 0 | E55: =D58 -> 0 | F55: =E58 -> 0 | G55: =F58 -> 0 | H55: =G58 -> 0 | I55: =H58 -> 0 | K55: =C55 -> 0 | L55: =K58 -> 0 | M55: =L58 -> 0 | N55: =M58 -> 0 | O55: =N58 -> 0 | P55: =O58 -> 0 | Q55: =P58 -> 0
...

Sheet 4.TL repayment sch
A2: 4.1 Repayment Schedule
C4: Loan Amount (Rs) | D4: ='1.Project Cost and MOF'!E20 -> 14632290
C5: Interest rate /PA | D5: 0.12
C6: Loan Tenure in years | D6: 3
C7: Moratorium Period ( In Months) | D7: 6
C8: EMI | D8: =PMT(D5/12,(D6-(D7/12))*12,-D4) -> 566973.61
A9: Year | B9: Particluars | C9: Opening Balance | D9: Interest | E9: Pricipal Repayment | F9: EMI | G9: Closing Outstanding
A10: Year 1 | B10: Month 1 | C10: =D4 -> 14632290 | D10: =C10*$D$5/12 -> 146322.9 | E10: =F10-D10 -> 0 | F10: =D10 -> 146322.9 | G10: =C10-E10 -> 14632290
B11: Month 2 | C11: =G10 -> 14632290 | D11: =C11*$D$5/12 -> 146322.9 | E11: =F11-D11 -> 0 | F11: =D11 -> 146322.9 | G11: =C11-E11 -> 14632290
B12: Month 3 | C12: =G11 -> 14632290 | D12: =C12*$D$5/12 -> 146322.9 | E12: =F12-D12 -> 0 | F12: =D12 -> 146322.9 | G12: =C12-E12 -> 14632290
B13: Month 4 | C13: =G12 -> 14632290 | D13: =C13*$D$5/12 -> 146322.9 | E13: =F13-D13 -> 0 | F13: =D13 -> 146322.9 | G13: =C13-E13 -> 14632290
B14: Month 5 | C14: =G13 -> 14632290 | D14: =C14*$D$5/12 -> 146322.9 | E14: =F14-D14 -> 0 | F14: =D14 -> 146322.9 | G14: =C14-E14 -> 14632290
B15: Month 6 | C15: =G14 -> 14632290 | D15: =C15*$D$5/12 -> 146322.9 | E15: =F15-D15 -> 0 | F15: =D15 -> 146322.9 | G15: =C15-E15 -> 14632290
B16: Month 7 | C16: =G15 -> 14632290 | D16: =C16*$D$5/12 -> 146322.9 | E16: =F16-D16 -> 420650.72 | F16: =$D$8 -> 566973.61 | G16: =C16-E16 -> 14211639
B17: Month 8 | C17: =G16 -> 14211639 | D17: =C17*$D$5/12 -> 142116.39 | E17: =F17-D17 -> 424857.23 | F17: =$D$8 -> 566973.61 | G17: =C17-E17 -> 13786782
B18: Month 9 | C18: =G17 -> 13786782 | D18: =C18*$D$5/12 -> 137867.82 | E18: =F18-D18 -> 429105.8 | F18: =$D$8 -> 566973.61 | G18: =C18-E18 -> 13357676
B19: Month 10 | C19: =G18 -> 13357676 | D19: =C19*$D$5/12 -> 133576.76 | E19: =F19-D19 -> 433396.86 | F19: =$D$8 -> 566973.61 | G19: =C19-E19 -> 12924279
B20: Month 11 | C20: =G19 -> 12924279 | D20: =C20*$D$5/12 -> 129242.79 | E20: =F20-D20 -> 437730.82 | F20: =$D$8 -> 566973.61 | G20: =C20-E20 -> 12486548
B21: Month 12 | C21: =G20 -> 12486548 | D21: =C21*$D$5/12 -> 124865.48 | E21: =F21-D21 -> 442108.13 | F21: =$D$8 -> 566973.61 | G21: =C21-E21 -> 12044440
A22: Year 2 | B22: Month 13 | C22: =G21 -> 12044440 | D22: =C22*$D$5/12 -> 120444.4 | E22: =F22-D22 -> 446529.21 | F22: =$D$8 -> 566973.61 | G22: =C22-E22 -> 11597911
B23: Month 14 | C23: =G22 -> 11597911 | D23: =C23*$D$5/12 -> 115979.11 | E23: =F23-D23 -> 450994.51 | F23: =$D$8 -> 566973.61 | G23: =C23-E23 -> 11146916
B24: Month 15 | C24: =G23 -> 11146916 | D24: =C24*$D$5/12 -> 111469.16 | E24: =F24-D24 -> 455504.45 | F24: =$D$8 -> 566973.61 | G24: =C24-E24 -> 10691412
B25: Month 16 | C25: =G24 -> 10691412 | D25: =C25*$D$5/12 -> 106914.12 | E25: =F25-D25 -> 460059.5 | F25: =$D$8 -> 566973.61 | G25: =C25-E25 -> 10231352
B26: Month 17 | C26: =G25 -> 10231352 | D26: =C26*$D$5/12 -> 102313.52 | E26: =F26-D26 -> 464660.09 | F26: =$D$8 -> 566973.61 | G26: =C26-E26 -> 9766692.3
B27: Month 18 | C27: =G26 -> 9766692.3 | D27: =C27*$D$5/12 -> 97666.923 | E27: =F27-D27 -> 469306.69 | F27: =$D$8 -> 566973.61 | G27: =C27-E27 -> 9297385.6
B28: Month 19 | C28: =G27 -> 9297385.6 | D28: =C28*$D$5/12 -> 92973.856 | E28: =F28-D28 -> 473999.76 | F28: =$D$8 -> 566973.61 | G28: =C28-E28 -> 8823385.9
B29: Month 20 | C29: =G28 -> 8823385.9 | D29: =C29*$D$5/12 -> 88233.859 | E29: =F29-D29 -> 478739.76 | F29: =$D$8 -> 566973.61 | G29: =C29-E29 -> 8344646.1
B30: Month 21 | C30: =G29 -> 8344646.1 | D30: =C30*$D$5/12 -> 83446.461 | E30: =F30-D30 -> 483527.15 | F30: =$D$8 -> 566973.61 | G30: =C30-E30 -> 7861118.9
B31: Month 22 | C31: =G30 -> 7861118.9 | D31: =C31*$D$5/12 -> 78611.189 | E31: =F31-D31 -> 488362.43 | F31: =$D$8 -> 566973.61 | G31: =C31-E31 -> 7372756.5
B32: Month 23 | C32: =G31 -> 7372756.5 | D32: =C32*$D$5/12 -> 73727.565 | E32: =F32-D32 -> 493246.05 | F32: =$D$8 -> 566973.61 | G32: =C32-E32 -> 6879510.5
B33: Month 24 | C33: =G32 -> 6879510.5 | D33: =C33*$D$5/12 -> 68795.105 | E33: =F33-D33 -> 498178.51 | F33: =$D$8 -> 566973.61 | G33: =C33-E33 -> 6381332
A34: Year 3 | B34: Month 25 | C34: =G33 -> 6381332 | D34: =C34*$D$5/12 -> 63813.32 | E34: =F34-D34 -> 503160.3 | F34: =$D$8 -> 566973.61 | G34: =C34-E34 -> 5878171.7
B35: Month 26 | C35: =G34 -> 5878171.7 | D35: =C35*$D$5/12 -> 58781.717 | E35: =F35-D35 -> 508191.9 | F35: =$D$8 -> 566973.61 | G35: =C35-E35 -> 5369979.8
B36: Month 27 | C36: =G35 -> 5369979.8 | D36: =C36*$D$5/12 -> 53699.798 | E36: =F36-D36 -> 513273.82 | F36: =$D$8 -> 566973.61 | G36: =C36-E36 -> 4856705.9
B37: Month 28 | C37: =G36 -> 4856705.9 | D37: =C37*$D$5/12 -> 48567.059 | E37: =F37-D37 -> 518406.56 | F37: =$D$8 -> 566973.61 | G37: =C37-E37 -> 4338299.4
B38: Month 29 | C38: =G37 -> 4338299.4 | D38: =C38*$D$5/12 -> 43382.994 | E38: =F38-D38 -> 523590.62 | F38: =$D$8 -> 566973.61 | G38: =C38-E38 -> 3814708.8
B39: Month 30 | C39: =G38 -> 3814708.8 | D39: =C39*$D$5/12 -> 38147.088 | E39: =F39-D39 -> 528826.53 | F39: =$D$8 -> 566973.61 | G39: =C39-E39 -> 3285882.2
B40: Month 31 | C40: =G39 -> 3285882.2 | D40: =C40*$D$5/12 -> 32858.822 | E40: =F40-D40 -> 534114.79 | F40: =$D$8 -> 566973.61 | G40: =C40-E40 -> 2751767.5
B41: Month 32 | C41: =G40 -> 2751767.5 | D41: =C41*$D$5/12 -> 27517.675 | E41: =F41-D41 -> 539455.94 | F41: =$D$8 -> 566973.61 | G41: =C41-E41 -> 2212311.5
B42: Month 33 | C42: =G41 -> 2212311.5 | D42: =C42*$D$5/12 -> 22123.115 | E42: =F42-D42 -> 544850.5 | F42: =$D$8 -> 566973.61 | G42: =C42-E42 -> 1667461
...

Sheet 5.Closing Stock & W Capital
C2: 5.1 Closing and Opening Stock Calculation
C4: Particulars | E4: Y1 | F4: Y2 | G4: Y3 | H4: Y4 | I4: Y5 | J4: Y6 | K4: Y7
C5: Opening Stock | N5: Grain Processing - Dal Mill | U5: F & V Processing - Pomegrantes
C6: Agri Input | F6: =E15 -> 0 | G6: =F15 -> 0 | H6: =G15 -> 0 | I6: =H15 -> 0 | J6: =I15 -> 0 | K6: =J15 -> 0 | N6: Cost Of Production/Quintals | U6: Cost Of Production/Quintals
C7: Trading | F7: =E16 -> 0 | G7: =F16 -> 0 | H7: =G16 -> 0 | I7: =H16 -> 0 | J7: =I16 -> 0 | K7: =J16 -> 0 | N7: Particulars | O7: Bengal Gram | P7: Red Gram | Q7: Black Gram | R7: Green Gram | U7: Particulars | V7: Pomegranate
C8: Grain Processing | F8: =E17 -> 0 | G8: =F17 -> 0 | H8: =G17 -> 0 | I8: =H17 -> 0 | J8: =I17 -> 0 | K8: =J17 -> 0 | N8: Purachse Price | O8: ='13.Facility 2 Grain Processing'!C152 -> 4800 | P8: ='13.Facility 2 Grain Processing'!C153 -> 5800 | Q8: ='13.Facility 2 Grain Processing'!C154 -> 5800 | R8: ='13.Facility 2 Grain Processing'!C155 -> 6200 | U8: Purchase Price | V8: ='17.Facility 6 Horti Processing '!C163 -> 6000
C9: =C18 -> Horticulture Processing | F9: =E18 -> 534283.91 | G9: =F18 -> 572563.83 | H9: =G18 -> 616864.03 | I9: =H18 -> 669266.02 | J9: =I18 -> 732325.65 | K9: =J18 -> 810399.51 | N9: ='13.Facility 2 Grain Processing'!A156 -> Oil (Liters) | O9: =('13.Facility 2 Grain Processing'!B156*'13.Facility 2 Grain Processing'!C156/1000)*100 -> 20 | P9: =O9 -> 20 | Q9: =P9 -> 20 | R9: =Q9 -> 20 | U9: ='17.Facility 6 Horti Processing '!A166 -> Other Consumbales | V9: ='17.Facility 6 Horti Processing '!C166 -> 0
N10: ='13.Facility 2 Grain Processing'!A157 -> Daily Labour | O10: =('13.Facility 2 Grain Processing'!B157*'13.Facility 2 Grain Processing'!C157)/('13.Facility 2 Grain Processing'!B5*'13.Facility 2 Grain Processing'!B6) -> 56.25 | P10: =O10 -> 56.25 | Q10: =P10 -> 56.25 | R10: =Q10 -> 56.25 | U10: ='17.Facility 6 Horti Processing '!A167 -> Daily Labour | V10: ='17.Facility 6 Horti Processing '!B167*'17.Facility 6 Horti Processing '!C167/('17.Facility 6 Horti Processing '!B5*'17.Facility 6 Horti Processing '!B6) -> 0
N11: ='13.Facility 2 Grain Processing'!A158 -> Electricity Charges | O11: =('13.Facility 2 Grain Processing'!B158*'13.Facility 2 Grain Processing'!C158)/('13.Facility 2 Grain Processing'!B5*'13.Facility 2 Grain Processing'!B6) -> 0 | P11: =O11 -> 0 | Q11: =P11 -> 0 | R11: =Q11 -> 0 | U11: ='17.Facility 6 Horti Processing '!A168 -> Electricity Charges | V11: ='17.Facility 6 Horti Processing '!B168*'17.Facility 6 Horti Processing '!C168/('17.Facility 6 Horti Processing '!B5*'17.Facility 6 Horti Processing '!B6) -> 0
C12: Total | F12: =SUM(F6:F11) -> 534283.91 | G12: =SUM(G6:G11) -> 572563.83 | H12: =SUM(H6:H11) -> 616864.03 | I12: =SUM(I6:I11) -> 669266.02 | J12: =SUM(J6:J11) -> 732325.65 | K12: =SUM(K6:K11) -> 810399.51 | N12: ='13.Facility 2 Grain Processing'!A159 -> Loading/Unloading Charges | O12: ='13.Facility 2 Grain Processing'!C159*2 -> 20 | P12: =O12 -> 20 | Q12: =P12 -> 20 | R12: =Q12 -> 20 | U12: ='17.Facility 6 Horti Processing '!A169 -> Loading/Unloading Charges | V12: ='17.Facility 6 Horti Processing '!C169 -> 0
N13: ='13.Facility 2 Grain Processing'!A160 -> packaging Exp | O13: ='13.Facility 2 Grain Processing'!C160*2 -> 40 | P13: =O13 -> 40 | Q13: =P13 -> 40 | R13: =Q13 -> 40 | U13: ='17.Facility 6 Horti Processing '!A170 -> packaging Exp | V13: ='17.Facility 6 Horti Processing '!C170*100 -> 0
C14: Closing Stock
C15: =C6 -> Agri Input | D15: 0
C16: =C7 -> Trading | D16: 0 | N16: Total Cost of Production | O16: =SUM(O8:O13) -> 4936.25 | P16: =SUM(P8:P13) -> 5936.25 | Q16: =SUM(Q8:Q13) -> 5936.25 | R16: =SUM(R8:R13) -> 6336.25 | U16: Total | V16: =SUM(V8:V15) -> 6000
C17: =C8 -> Grain Processing | D17: 0.05 | E17: =SUM('13.Facility 2 Grain Processing'!D152:D160)*$D$17 -> 0 | F17: =SUM('13.Facility 2 Grain Processing'!E152:E160)*$D$17 -> 0 | G17: =SUM('13.Facility 2 Grain Processing'!F152:F160)*$D$17 -> 0 | H17: =SUM('13.Facility 2 Grain Processing'!G152:G160)*$D$17 -> 0 | I17: =SUM('13.Facility 2 Grain Processing'!H152:H160)*$D$17 -> 0 | J17: =SUM('13.Facility 2 Grain Processing'!I152:I160)*$D$17 -> 0 | K17: =SUM('13.Facility 2 Grain Processing'!J152:J160)*$D$17 -> 0
C18: Horticulture Processing | D18: 0.05 | E18: =SUM('17.Facility 6 Horti Processing '!D163:D171)*$D$18 -> 534283.91 | F18: =SUM('17.Facility 6 Horti Processing '!E163:E171)*$D$18 -> 572563.83 | G18: =SUM('17.Facility 6 Horti Processing '!F163:F171)*$D$18 -> 616864.03 | H18: =SUM('17.Facility 6 Horti Processing '!G163:G171)*$D$18 -> 669266.02 | I18: =SUM('17.Facility 6 Horti Processing '!H163:H171)*$D$18 -> 732325.65 | J18: =SUM('17.Facility 6 Horti Processing '!I163:I171)*$D$18 -> 810399.51 | K18: =SUM('17.Facility 6 Horti Processing '!J163:J171)*$D$18 -> 910979.28
C21: Total | E21: =SUM(E15:E20) -> 534283.91 | F21: =SUM(F15:F20) -> 572563.83 | G21: =SUM(G15:G20) -> 616864.03 | H21: =SUM(H15:H20) -> 669266.02 | I21: =SUM(I15:I20) -> 732325.65 | J21: =SUM(J15:J20) -> 810399.51 | K21: =SUM(K15:K20) -> 910979.28
A23: Closing Stock is an amount of unsold stock lying in your business on a given date. In simple words, it's the inventory which is still in your business waiting to be sold for a given period. The closing stock can be in various forms such as raw materials, in-process goods (WIP) or finished goods
A24: Assumption:
A25: 1 | B25: Closing stock of each facility is 5%
B28: 5.2 Working Capital Calculation
B30: Sr. No. | C30: Particulars | D30: Duration (In days) | E30: Amount (Rs.)
E31: Y1 | F31: Y2 | G31: Y3 | H31: Y4 | I31: Y5 | J31: Y6 | K31: Y7
B33: A | C33: Accounts Receivables (Debtors)
B34: 1 | C34: Agri Input | D34: 14
B35: 2 | C35: Custom Hiring | D35: 14
B36: 3 | C36: Cleaning & Grading | D36: 14
B37: 4 | C37: Dal Mill | D37: 14 | E37: =('13.Facility 2 Grain Processing'!D148/365)*$D$37 -> 0 | F37: =('13.Facility 2 Grain Processing'!E148/365)*$D$37 -> 0 | G37: =('13.Facility 2 Grain Processing'!F148/365)*$D$37 -> 0 | H37: =('13.Facility 2 Grain Processing'!G148/365)*$D$37 -> 0 | I37: =('13.Facility 2 Grain Processing'!H148/365)*$D$37 -> 0 | J37: =('13.Facility 2 Grain Processing'!I148/365)*$D$37 -> 0 | K37: =('13.Facility 2 Grain Processing'!J148/365)*$D$37 -> 0
B38: 5 | C38: Warehouse | D38: 14 | E38: =('14. Facility 3 Warehouse'!D23/365)*$D$38 -> 0 | F38: =('14. Facility 3 Warehouse'!E23/365)*$D$38 -> 0 | G38: =('14. Facility 3 Warehouse'!F23/365)*$D$38 -> 0 | H38: =('14. Facility 3 Warehouse'!G23/365)*$D$38 -> 0 | I38: =('14. Facility 3 Warehouse'!H23/365)*$D$38 -> 0 | J38: =('14. Facility 3 Warehouse'!I23/365)*$D$38 -> 0 | K38: =('14. Facility 3 Warehouse'!J23/365)*$D$38 -> 0
B39: 6 | C39: Processing Unit - Horti Commodity | D39: 14 | E39: =('17.Facility 6 Horti Processing '!D159/365)*$D$39 -> 891953.5 | F39: =('17.Facility 6 Horti Processing '!E159/365)*$D$39 -> 957836.43 | G39: =('17.Facility 6 Horti Processing '!F159/365)*$D$39 -> 1028077.8 | H39: =('17.Facility 6 Horti Processing '!G159/365)*$D$39 -> 1102948.7 | I39: =('17.Facility 6 Horti Processing '!H159/365)*$D$39 -> 1182736.4 | J39: =('17.Facility 6 Horti Processing '!I159/365)*$D$39 -> 1267745.6 | K39: =('17.Facility 6 Horti Processing '!J159/365)*$D$39 -> 1358298.9
C41: Subtotal | E41: =SUM(E34:E40) -> 891953.5 | F41: =SUM(F34:F40) -> 957836.43 | G41: =SUM(G34:G40) -> 1028077.8 | H41: =SUM(H34:H40) -> 1102948.7 | I41: =SUM(I34:I40) -> 1182736.4 | J41: =SUM(J34:J40) -> 1267745.6 | K41: =SUM(K34:K40) -> 1358298.9
B42: B | C42: Closing Stock | E42: ='5.Closing Stock & W Capital'!E21 -> 534283.91 | F42: ='5.Closing Stock & W Capital'!F21 -> 572563.83 | G42: ='5.Closing Stock & W Capital'!G21 -> 616864.03 | H42: ='5.Closing Stock & W Capital'!H21 -> 669266.02 | I42: ='5.Closing Stock & W Capital'!I21 -> 732325.65 | J42: ='5.Closing Stock & W Capital'!J21 -> 810399.51 | K42: ='5.Closing Stock & W Capital'!K21 -> 910979.28
B44: Total | E44: =SUM(E41:E42) -> 1426237.4 | F44: =SUM(F41:F42) -> 1530400.3 | G44: =SUM(G41:G42) -> 1644941.8 | H44: =SUM(H41:H42) -> 1772214.7 | I44: =SUM(I41:I42) -> 1915062.1 | J44: =SUM(J41:J42) -> 2078145.1 | K44: =SUM(K41:K42) -> 2269278.1
B46: C | C46: Accounts Payable & Accrued Expenses (Creditors)
B47: 1 | C47: =C34 -> Agri Input | D47: 7
B48: 2 | C48: =C35 -> Custom Hiring | D48: 7
B49: 3 | C49: =C36 -> Cleaning & Grading | D49: 7
B50: 4 | C50: =C37 -> Dal Mill | D50: 7 | E50: =('13.Facility 2 Grain Processing'!D169/365)*$D$50 -> 0 | F50: =('13.Facility 2 Grain Processing'!E169/365)*$D$50 -> 0 | G50: =('13.Facility 2 Grain Processing'!F169/365)*$D$50 -> 0 | H50: =('13.Facility 2 Grain Processing'!G169/365)*$D$50 -> 0 | I50: =('13.Facility 2 Grain Processing'!H169/365)*$D$50 -> 0 | J50: =('13.Facility 2 Grain Processing'!I169/365)*$D$50 -> 0 | K50: =('13.Facility 2 Grain Processing'!J169/365)*$D$50 -> 0
B51: 5 | C51: =C38 -> Warehouse | D51: 7 | E51: =('14. Facility 3 Warehouse'!D34/365)*$D$51 -> 0 | F51: =('14. Facility 3 Warehouse'!E34/365)*$D$51 -> 0 | G51: =('14. Facility 3 Warehouse'!F34/365)*$D$51 -> 0 | H51: =('14. Facility 3 Warehouse'!G34/365)*$D$51 -> 0 | I51: =('14. Facility 3 Warehouse'!H34/365)*$D$51 -> 0 | J51: =('14. Facility 3 Warehouse'!I34/365)*$D$51 -> 0 | K51: =('14. Facility 3 Warehouse'!J34/365)*$D$51 -> 0
C52: =C39 -> Processing Unit - Horti Commodity | D52: 7 | E52: =+SUM('17.Facility 6 Horti Processing '!D163:D171)/365*$D52 -> 204930.81 | F52: =+SUM('17.Facility 6 Horti Processing '!E163:E171)/365*$D52 -> 219613.52 | G52: =+SUM('17.Facility 6 Horti Processing '!F163:F171)/365*$D52 -> 236605.38 | H52: =+SUM('17.Facility 6 Horti Processing '!G163:G171)/365*$D52 -> 256704.77 | I52: =+SUM('17.Facility 6 Horti Processing '!H163:H171)/365*$D52 -> 280892.03 | J52: =+SUM('17.Facility 6 Horti Processing '!I163:I171)/365*$D52 -> 310838.17 | K52: =+SUM('17.Facility 6 Horti Processing '!J163:J171)/365*$D52 -> 349416.71
...

Sheet 6.Cons Profit & Loss
A2: 6.1 Consolidated Profit and loss account for the Project
A5: Particulars | B5: Y1 | C5: Y2 | D5: Y3 | E5: Y4 | F5: Y5 | G5: Y6 | H5: Y7
A6: Revenue
A8: Faclitiy 1 - Cleaning & Grading | B8: ='12.Facility 1 - Trading'!D204 -> 0 | C8: ='12.Facility 1 - Trading'!E204 -> 0 | D8: ='12.Facility 1 - Trading'!F204 -> 0 | E8: ='12.Facility 1 - Trading'!G204 -> 0 | F8: ='12.Facility 1 - Trading'!H204 -> 0 | G8: ='12.Facility 1 - Trading'!I204 -> 0 | H8: ='12.Facility 1 - Trading'!J204 -> 0
A9: Faclitiy 2 - Processing Unit- Dal Mill | B9: ='13.Facility 2 Grain Processing'!D148 -> 0 | C9: ='13.Facility 2 Grain Processing'!E148 -> 0 | D9: ='13.Facility 2 Grain Processing'!F148 -> 0 | E9: ='13.Facility 2 Grain Processing'!G148 -> 0 | F9: ='13.Facility 2 Grain Processing'!H148 -> 0 | G9: ='13.Facility 2 Grain Processing'!I148 -> 0 | H9: ='13.Facility 2 Grain Processing'!J148 -> 0
A10: Faclitiy 3 - Warehouse | B10: ='14. Facility 3 Warehouse'!D23 -> 0 | C10: ='14. Facility 3 Warehouse'!E23 -> 0 | D10: ='14. Facility 3 Warehouse'!F23 -> 0 | E10: ='14. Facility 3 Warehouse'!G23 -> 0 | F10: ='14. Facility 3 Warehouse'!H23 -> 0 | G10: ='14. Facility 3 Warehouse'!I23 -> 0 | H10: ='14. Facility 3 Warehouse'!J23 -> 0
A11: Faclitiy 4 - Custom Hiring | B11: ='15. Facility 4 Custom Hiring'!E39 -> 0 | C11: ='15. Facility 4 Custom Hiring'!F39 -> 0 | D11: ='15. Facility 4 Custom Hiring'!G39 -> 0 | E11: ='15. Facility 4 Custom Hiring'!H39 -> 0 | F11: ='15. Facility 4 Custom Hiring'!I39 -> 0 | G11: ='15. Facility 4 Custom Hiring'!J39 -> 0 | H11: ='15. Facility 4 Custom Hiring'!K39 -> 0
A12: Faclitiy 5 - Agri Input Centre | B12: ='16.Facility 5 Agri Input'!D168 -> 0 | C12: ='16.Facility 5 Agri Input'!E168 -> 0 | D12: ='16.Facility 5 Agri Input'!F168 -> 0 | E12: ='16.Facility 5 Agri Input'!G168 -> 0 | F12: ='16.Facility 5 Agri Input'!H168 -> 0 | G12: ='16.Facility 5 Agri Input'!I168 -> 0 | H12: ='16.Facility 5 Agri Input'!J168 -> 0
A13: Facility 1 - Food Processing Unit | B13: ='17.Facility 6 Horti Processing '!D159 -> 23254502 | C13: ='17.Facility 6 Horti Processing '!E159 -> 24972164 | D13: ='17.Facility 6 Horti Processing '!F159 -> 26803456 | E13: ='17.Facility 6 Horti Processing '!G159 -> 28755447 | F13: ='17.Facility 6 Horti Processing '!H159 -> 30835628 | G13: ='17.Facility 6 Horti Processing '!I159 -> 33051939 | H13: ='17.Facility 6 Horti Processing '!J159 -> 35412792
A15: Total Revenue | B15: =SUM(B8:B14) -> 23254502 | C15: =SUM(C8:C14) -> 24972164 | D15: =SUM(D8:D14) -> 26803456 | E15: =SUM(E8:E14) -> 28755447 | F15: =SUM(F8:F14) -> 30835628 | G15: =SUM(G8:G14) -> 33051939 | H15: =SUM(H8:H14) -> 35412792
A17: Variable Cost
A18: =A8 -> Faclitiy 1 - Cleaning & Grading | B18: ='12.Facility 1 - Trading'!D262 -> 0 | C18: ='12.Facility 1 - Trading'!E262 -> 0 | D18: ='12.Facility 1 - Trading'!F262 -> 0 | E18: ='12.Facility 1 - Trading'!G262 -> 0 | F18: ='12.Facility 1 - Trading'!H262 -> 0 | G18: ='12.Facility 1 - Trading'!I262 -> 0 | H18: ='12.Facility 1 - Trading'!J262 -> 0
A19: =A9 -> Faclitiy 2 - Processing Unit- Dal Mill | B19: ='13.Facility 2 Grain Processing'!D169 -> 0 | C19: ='13.Facility 2 Grain Processing'!E169 -> 0 | D19: ='13.Facility 2 Grain Processing'!F169 -> 0 | E19: ='13.Facility 2 Grain Processing'!G169 -> 0 | F19: ='13.Facility 2 Grain Processing'!H169 -> 0 | G19: ='13.Facility 2 Grain Processing'!I169 -> 0 | H19: ='13.Facility 2 Grain Processing'!J169 -> 0
A20: =A10 -> Faclitiy 3 - Warehouse | B20: ='14. Facility 3 Warehouse'!D34 -> 0 | C20: ='14. Facility 3 Warehouse'!E34 -> 0 | D20: ='14. Facility 3 Warehouse'!F34 -> 0 | E20: ='14. Facility 3 Warehouse'!G34 -> 0 | F20: ='14. Facility 3 Warehouse'!H34 -> 0 | G20: ='14. Facility 3 Warehouse'!I34 -> 0 | H20: ='14. Facility 3 Warehouse'!J34 -> 0
A21: =A11 -> Faclitiy 4 - Custom Hiring | B21: ='15. Facility 4 Custom Hiring'!E49 -> 0 | C21: ='15. Facility 4 Custom Hiring'!F49 -> 0 | D21: ='15. Facility 4 Custom Hiring'!G49 -> 0 | E21: ='15. Facility 4 Custom Hiring'!H49 -> 0 | F21: ='15. Facility 4 Custom Hiring'!I49 -> 0 | G21: ='15. Facility 4 Custom Hiring'!J49 -> 0 | H21: ='15. Facility 4 Custom Hiring'!K49 -> 0
A22: =A12 -> Faclitiy 5 - Agri Input Centre | B22: ='16.Facility 5 Agri Input'!D233 -> 0 | C22: ='16.Facility 5 Agri Input'!E233 -> 0 | D22: ='16.Facility 5 Agri Input'!F233 -> 0 | E22: ='16.Facility 5 Agri Input'!G233 -> 0 | F22: ='16.Facility 5 Agri Input'!H233 -> 0 | G22: ='16.Facility 5 Agri Input'!I233 -> 0 | H22: ='16.Facility 5 Agri Input'!J233 -> 0
A23: =A13 -> Facility 1 - Food Processing Unit | B23: ='17.Facility 6 Horti Processing '!D176 -> 10151394 | C23: ='17.Facility 6 Horti Processing '!E176 -> 11412997 | D23: ='17.Facility 6 Horti Processing '!F176 -> 12292980 | E23: ='17.Facility 6 Horti Processing '!G176 -> 13332918 | F23: ='17.Facility 6 Horti Processing '!H176 -> 14583453 | G23: ='17.Facility 6 Horti Processing '!I176 -> 16129916 | H23: ='17.Facility 6 Horti Processing '!J176 -> 18119006
A25: Total Variable Cost | B25: =SUM(B18:B24) -> 10151394 | C25: =SUM(C18:C24) -> 11412997 | D25: =SUM(D18:D24) -> 12292980 | E25: =SUM(E18:E24) -> 13332918 | F25: =SUM(F18:F24) -> 14583453 | G25: =SUM(G18:G24) -> 16129916 | H25: =SUM(H18:H24) -> 18119006
A27: Fixed Cost
A28: =A18 -> Faclitiy 1 - Cleaning & Grading | B28: ='12.Facility 1 - Trading'!D271 -> 0 | C28: ='12.Facility 1 - Trading'!E271 -> 0 | D28: ='12.Facility 1 - Trading'!F271 -> 0 | E28: ='12.Facility 1 - Trading'!G271 -> 0 | F28: ='12.Facility 1 - Trading'!H271 -> 0 | G28: ='12.Facility 1 - Trading'!I271 -> 0 | H28: ='12.Facility 1 - Trading'!J271 -> 0
A29: =A19 -> Faclitiy 2 - Processing Unit- Dal Mill | B29: ='13.Facility 2 Grain Processing'!D177 -> 0 | C29: ='13.Facility 2 Grain Processing'!E177 -> 0 | D29: ='13.Facility 2 Grain Processing'!F177 -> 0 | E29: ='13.Facility 2 Grain Processing'!G177 -> 0 | F29: ='13.Facility 2 Grain Processing'!H177 -> 0 | G29: ='13.Facility 2 Grain Processing'!I177 -> 0 | H29: ='13.Facility 2 Grain Processing'!J177 -> 0
A30: =A20 -> Faclitiy 3 - Warehouse | B30: ='14. Facility 3 Warehouse'!D43 -> 0 | C30: ='14. Facility 3 Warehouse'!E43 -> 0 | D30: ='14. Facility 3 Warehouse'!F43 -> 0 | E30: ='14. Facility 3 Warehouse'!G43 -> 0 | F30: ='14. Facility 3 Warehouse'!H43 -> 0 | G30: ='14. Facility 3 Warehouse'!I43 -> 0 | H30: ='14. Facility 3 Warehouse'!J43 -> 0
A31: =A21 -> Faclitiy 4 - Custom Hiring | B31: ='15. Facility 4 Custom Hiring'!E56 -> 0 | C31: ='15. Facility 4 Custom Hiring'!F56 -> 0 | D31: ='15. Facility 4 Custom Hiring'!G56 -> 0 | E31: ='15. Facility 4 Custom Hiring'!H56 -> 0 | F31: ='15. Facility 4 Custom Hiring'!I56 -> 0 | G31: ='15. Facility 4 Custom Hiring'!J56 -> 0 | H31: ='15. Facility 4 Custom Hiring'!K56 -> 0
A32: =A22 -> Faclitiy 5 - Agri Input Centre | B32: ='16.Facility 5 Agri Input'!D244 -> 0 | C32: ='16.Facility 5 Agri Input'!E244 -> 0 | D32: ='16.Facility 5 Agri Input'!F244 -> 0 | E32: ='16.Facility 5 Agri Input'!G244 -> 0 | F32: ='16.Facility 5 Agri Input'!H244 -> 0 | G32: ='16.Facility 5 Agri Input'!I244 -> 0 | H32: ='16.Facility 5 Agri Input'!J244 -> 0
A33: =A23 -> Facility 1 - Food Processing Unit | B33: ='17.Facility 6 Horti Processing '!D184 -> 300000 | C33: ='17.Facility 6 Horti Processing '!E184 -> 315000 | D33: ='17.Facility 6 Horti Processing '!F184 -> 330750 | E33: ='17.Facility 6 Horti Processing '!G184 -> 347287.5 | F33: ='17.Facility 6 Horti Processing '!H184 -> 364651.88 | G33: ='17.Facility 6 Horti Processing '!I184 -> 382884.47 | H33: ='17.Facility 6 Horti Processing '!J184 -> 402028.69
A35: Admin Expenses | B35: ='3.Other Exp & Taxes'!E23 -> 1254800 | C35: ='3.Other Exp & Taxes'!F23 -> 1317540 | D35: ='3.Other Exp & Taxes'!G23 -> 1383417 | E35: ='3.Other Exp & Taxes'!H23 -> 1452587.9 | F35: ='3.Other Exp & Taxes'!I23 -> 1525217.2 | G35: ='3.Other Exp & Taxes'!J23 -> 1601478.1 | H35: ='3.Other Exp & Taxes'!K23 -> 1681552
A36: Total Fixed Cost | B36: =SUM(B28:B35) -> 1554800 | C36: =SUM(C28:C35) -> 1632540 | D36: =SUM(D28:D35) -> 1714167 | E36: =SUM(E28:E35) -> 1799875.4 | F36: =SUM(F28:F35) -> 1889869.1 | G36: =SUM(G28:G35) -> 1984362.6 | H36: =SUM(H28:H35) -> 2083580.7
A38: Total Cost | B38: =B25+B36 -> 11706194 | C38: =C25+C36 -> 13045537 | D38: =D25+D36 -> 14007147 | E38: =E25+E36 -> 15132794 | F38: =F25+F36 -> 16473323 | G38: =G25+G36 -> 18114279 | H38: =H25+H36 -> 20202587
A40: Profit Before Depreciation ,Interest and Tax | B40: =B15-B38 -> 11548308 | C40: =C15-C38 -> 11926627 | D40: =D15-D38 -> 12796309 | E40: =E15-E38 -> 13622653 | F40: =F15-F38 -> 14362306 | G40: =G15-G38 -> 14937660 | H40: =H15-H38 -> 15210205 | J40: =B49+B42+B43 -> 9856378.2
J41: ='5.Closing Stock & W Capital'!E56 -> 1221306.6
A42: Depreciation | B42: =+'3.Other Exp & Taxes'!K66 -> 6450932 | C42: =+'3.Other Exp & Taxes'!L66 -> 5564059.5 | D42: =+'3.Other Exp & Taxes'!M66 -> 4802141.1 | E42: =+'3.Other Exp & Taxes'!N66 -> 4147241.4 | F42: =+'3.Other Exp & Taxes'!O66 -> 3584034.6 | G42: =+'3.Other Exp & Taxes'!P66 -> 3099420.8 | H42: =+'3.Other Exp & Taxes'!Q66 -> 2682200 | J42: =J40+J41 -> 11077685
A43: Amortization | B43: ='3.Other Exp & Taxes'!C86 -> 76720 | C43: ='3.Other Exp & Taxes'!D86 -> 76720 | D43: ='3.Other Exp & Taxes'!E86 -> 76720 | E43: ='3.Other Exp & Taxes'!F86 -> 76720 | F43: ='3.Other Exp & Taxes'!G86 -> 76720 | G43: ='3.Other Exp & Taxes'!H86 -> 0 | H43: ='3.Other Exp & Taxes'!I86 -> 0
A45: Profit Before Interest and Tax | B45: =B40-B42-B43 -> 5020655.8 | C45: =C40-C42-C43 -> 6285848 | D45: =D40-D42-D43 -> 7917447.6 | E45: =E40-E42-E43 -> 9398691.9 | F45: =F40-F42-F43 -> 10701551 | G45: =G40-G42-G43 -> 11838239 | H45: =H40-H42-H43 -> 12528005
A47: Interest on Term loan | B47: =+'8.Cash Flow '!C27 -> 1691929.5 | C47: =+'8.Cash Flow '!D27 -> 1140575.3 | D47: =+'8.Cash Flow '!E27 -> 422351.42 | E47: =+'8.Cash Flow '!F27 -> 0 | F47: =+'8.Cash Flow '!G27 -> 0 | G47: =+'8.Cash Flow '!H27 -> 0 | H47: =+'8.Cash Flow '!I27 -> 0
A49: Profit Before Tax | B49: =B45-B47 -> 3328726.3 | C49: =C45-C47 -> 5145272.7 | D49: =D45-D47 -> 7495096.2 | E49: =E45-E47 -> 9398691.9 | F49: =F45-F47 -> 10701551 | G49: =G45-G47 -> 11838239 | H49: =H45-H47 -> 12528005
A50: Less. Tax | B50: ='3.Other Exp & Taxes'!B99 -> 865468.83 | C50: ='3.Other Exp & Taxes'!C99 -> 1337770.9 | D50: ='3.Other Exp & Taxes'!D99 -> 1948725 | E50: ='3.Other Exp & Taxes'!E99 -> 2443659.9 | F50: ='3.Other Exp & Taxes'!F99 -> 2782403.3 | G50: ='3.Other Exp & Taxes'!G99 -> 3077942.2 | H50: ='3.Other Exp & Taxes'!H99 -> 3257281.4
A51: Profit After Tax | B51: =B49-B50 -> 2463257.4 | C51: =C49-C50 -> 3807501.8 | D51: =D49-D50 -> 5546371.2 | E51: =E49-E50 -> 6955032 | F51: =F49-F50 -> 7919147.8 | G51: =G49-G50 -> 8760297 | H51: =H49-H50 -> 9270723.9
A53: Cumuilative Profit | B53: =B51 -> 2463257.4 | C53: =B53+C51 -> 6270759.3 | D53: =C53+D51 -> 11817130 | E53: =D53+E51 -> 18772162 | F53: =E53+F51 -> 26691310 | G53: =F53+G51 -> 35451607 | H53: =G53+H51 -> 44722331
A56: Projected Consolidated Profit and Loss account is to give a projection of how much money you will bring in by selling products or services and how much profit you will make from these sales.

Sheet 7.Balance Sheet
A2: 7.1 Balancesheet for the Project
A4: Particulars | B4: Y1 | C4: Y2 | D4: Y3 | E4: Y4 | F4: Y5 | G4: Y6 | H4: Y7
A6: ASSETS
A7: Current Assets
A8: Cash and Bank Balance | B8: ='8.Cash Flow '!C36 -> 6403059.9 | C8: ='8.Cash Flow '!D36 -> 10098753 | D8: ='8.Cash Flow '!E36 -> 14045104 | E8: ='8.Cash Flow '!F36 -> 25116923 | F8: ='8.Cash Flow '!G36 -> 36578166 | G8: ='8.Cash Flow '!H36 -> 48304747 | H8: ='8.Cash Flow '!I36 -> 60105116
A9: Accounts Receivables | B9: =+'5.Closing Stock & W Capital'!E39 -> 891953.5 | C9: =+'5.Closing Stock & W Capital'!F39 -> 957836.43 | D9: =+'5.Closing Stock & W Capital'!G39 -> 1028077.8 | E9: =+'5.Closing Stock & W Capital'!H39 -> 1102948.7 | F9: =+'5.Closing Stock & W Capital'!I39 -> 1182736.4 | G9: =+'5.Closing Stock & W Capital'!J39 -> 1267745.6 | H9: =+'5.Closing Stock & W Capital'!K39 -> 1358298.9
A10: Other Current Assets | B10: =+'5.Closing Stock & W Capital'!E42 -> 534283.91 | C10: =+'5.Closing Stock & W Capital'!F42 -> 572563.83 | D10: =+'5.Closing Stock & W Capital'!G42 -> 616864.03 | E10: =+'5.Closing Stock & W Capital'!H42 -> 669266.02 | F10: =+'5.Closing Stock & W Capital'!I42 -> 732325.65 | G10: =+'5.Closing Stock & W Capital'!J42 -> 810399.51 | H10: =+'5.Closing Stock & W Capital'!K42 -> 910979.28
A11: Total Current Assets | B11: =SUM(B8:B10) -> 7829297.3 | C11: =SUM(C8:C10) -> 11629153 | D11: =SUM(D8:D10) -> 15690045 | E11: =SUM(E8:E10) -> 26889138 | F11: =SUM(F8:F10) -> 38493228 | G11: =SUM(G8:G10) -> 50382892 | H11: =SUM(H8:H10) -> 62374394
A13: Gross Fixed Assets | B13: =+'3.Other Exp & Taxes'!K65 -> 48390699 | C13: =+'3.Other Exp & Taxes'!L65 -> 41939767 | D13: =+'3.Other Exp & Taxes'!M65 -> 36375707 | E13: =+'3.Other Exp & Taxes'!N65 -> 31573566 | F13: =+'3.Other Exp & Taxes'!O65 -> 27426325 | G13: =+'3.Other Exp & Taxes'!P65 -> 23842290 | H13: =+'3.Other Exp & Taxes'!Q65 -> 20742869
A14: Less: Depriciation | B14: =+'6.Cons Profit & Loss'!B42 -> 6450932 | C14: =+'6.Cons Profit & Loss'!C42 -> 5564059.5 | D14: =+'6.Cons Profit & Loss'!D42 -> 4802141.1 | E14: =+'6.Cons Profit & Loss'!E42 -> 4147241.4 | F14: =+'6.Cons Profit & Loss'!F42 -> 3584034.6 | G14: =+'6.Cons Profit & Loss'!G42 -> 3099420.8 | H14: =+'6.Cons Profit & Loss'!H42 -> 2682200
A15: Net Fixed Assets | B15: =B13-B14 -> 41939767 | C15: =C13-C14 -> 36375707 | D15: =D13-D14 -> 31573566 | E15: =E13-E14 -> 27426325 | F15: =F13-F14 -> 23842290 | G15: =G13-G14 -> 20742869 | H15: =H13-H14 -> 18060669
A18: Preliminary & Pre- operative Expenses | B18: ='8.Cash Flow '!C21-'6.Cons Profit & Loss'!B43 -> 306880 | C18: =B18-'6.Cons Profit & Loss'!C43 -> 230160 | D18: =C18-'6.Cons Profit & Loss'!D43 -> 153440 | E18: =D18-'6.Cons Profit & Loss'!E43 -> 76720 | F18: =E18-'6.Cons Profit & Loss'!F43 -> 0 | G18: =F18-'6.Cons Profit & Loss'!G43 -> 0 | H18: =G18-'6.Cons Profit & Loss'!H43 -> 0
A20: TOTAL ASSETS | B20: =B11+B15+B17+B18 -> 50075944 | C20: =C11+C15+C17+C18 -> 48235020 | D20: =D11+D15+D17+D18 -> 47417052 | E20: =E11+E15+E17+E18 -> 54392183 | F20: =F11+F15+F17+F18 -> 62335518 | G20: =G11+G15+G17+G18 -> 71125761 | H20: =H11+H15+H17+H18 -> 80435064
A22: LIABILITIES & SHAREHOLDERS EQUITY
A23: CURRENT LIABILITIES
A24: Short Term Debt (Working capital loan)
A25: Accounts Payable & Accrued Expenses | B25: =+'5.Closing Stock & W Capital'!E54 -> 204930.81 | C25: =+'5.Closing Stock & W Capital'!F54 -> 219613.52 | D25: =+'5.Closing Stock & W Capital'!G54 -> 236605.38 | E25: =+'5.Closing Stock & W Capital'!H54 -> 256704.77 | F25: =+'5.Closing Stock & W Capital'!I54 -> 280892.03 | G25: =+'5.Closing Stock & W Capital'!J54 -> 310838.17 | H25: =+'5.Closing Stock & W Capital'!K54 -> 349416.71
A26: Other Current Liabilities
A27: Total Curent Liabilities | B27: =SUM(B24:B26) -> 204930.81 | C27: =SUM(C24:C26) -> 219613.52 | D27: =SUM(D24:D26) -> 236605.38 | E27: =SUM(E24:E26) -> 256704.77 | F27: =SUM(F24:F26) -> 280892.03 | G27: =SUM(G24:G26) -> 310838.17 | H27: =SUM(H24:H26) -> 349416.71
A28: Secured Long Term Debt | B28: ='4.TL repayment sch'!G21 -> 12044440 | C28: ='4.TL repayment sch'!G33 -> 6381332 | D28: ='4.TL repayment sch'!G45 -> 0 | E28: ='4.TL repayment sch'!G57 -> 0 | F28: ='4.TL repayment sch'!G69 -> 0 | G28: ='4.TL repayment sch'!G81 -> 0 | H28: 0
A29: Differed Tax Liabilities
A31: TOTAL LIABILITIES | B31: =SUM(B27:B29) -> 12249371 | C31: =SUM(C27:C29) -> 6600945.5 | D31: =SUM(D27:D29) -> 236605.38 | E31: =SUM(E27:E29) -> 256704.77 | F31: =SUM(F27:F29) -> 280892.03 | G31: =SUM(G27:G29) -> 310838.17 | H31: =SUM(H27:H29) -> 349416.71
A33: Share capital | B33: ='1.Project Cost and MOF'!E21 -> 6098736.5 | C33: =B33 -> 6098736.5 | D33: =C33 -> 6098736.5 | E33: =D33 -> 6098736.5 | F33: =E33 -> 6098736.5 | G33: =F33 -> 6098736.5 | H33: =G33 -> 6098736.5
A34: Smart Grant -in-Aid | B34: ='1.Project Cost and MOF'!E19 -> 29264579 | C34: =B34 -> 29264579 | D34: =C34 -> 29264579 | E34: =D34 -> 29264579 | F34: =E34 -> 29264579 | G34: =F34 -> 29264579 | H34: =G34 -> 29264579
A35: Reserves and Surplus
A36: Add: Opening Balance (P/L Account) | B36: 0 | C36: =B39 -> 2463257.4 | D36: =C39 -> 6270759.3 | E36: =D39 -> 11817130 | F36: =E39 -> 18772162 | G36: =F39 -> 26691310 | H36: =G39 -> 35451607
A37: Profit & Loss) During the Year | B37: ='6.Cons Profit & Loss'!B53 -> 2463257.4 | C37: ='6.Cons Profit & Loss'!C51 -> 3807501.8 | D37: ='6.Cons Profit & Loss'!D51 -> 5546371.2 | E37: ='6.Cons Profit & Loss'!E51 -> 6955032 | F37: ='6.Cons Profit & Loss'!F51 -> 7919147.8 | G37: ='6.Cons Profit & Loss'!G51 -> 8760297 | H37: ='6.Cons Profit & Loss'!H51 -> 9270723.9
A38: Appropriation - Dividend
A39: Total Reserves | B39: =B36+B37-B38 -> 2463257.4 | C39: =C36+C37-C38 -> 6270759.3 | D39: =D36+D37-D38 -> 11817130 | E39: =E36+E37-E38 -> 18772162 | F39: =F36+F37-F38 -> 26691310 | G39: =G36+G37-G38 -> 35451607 | H39: =H36+H37-H38 -> 44722331
A41: TOTAL EQUITY | B41: =B33+B39+B34 -> 37826573 | C41: =C33+C39+C34 -> 41634075 | D41: =D33+D39+D34 -> 47180446 | E41: =E33+E39+E34 -> 54135478 | F41: =F33+F39+F34 -> 62054626 | G41: =G33+G39+G34 -> 70814923 | H41: =H33+H39+H34 -> 80085647
A43: TOTAL LIABILITIES & EQUITY | B43: =B31+B41 -> 50075944 | C43: =C31+C41 -> 48235020 | D43: =D31+D41 -> 47417052 | E43: =E31+E41 -> 54392183 | F43: =F31+F41 -> 62335518 | G43: =G31+G41 -> 71125761 | H43: =H31+H41 -> 80435064
A45: CONTROL TICKER
A46: (=Liability - Asset) | B46: =B43-B20 -> 0 | C46: =C43-C20 -> 0 | D46: =D43-D20 -> 0 | E46: =E43-E20 -> 0 | F46: =F43-F20 -> 0 | G46: =G43-G20 -> 0 | H46: =H43-H20 -> 0
A50: A projected balance sheet, also referred to as pro forma balance sheet, lists specific account balances on a business' assets, liabilities and equity for a specified future time. Using a projected balance sheet, financial personnel can present lenders and investors with detailed financial information about planned future asset expansion, making it easier to persuade capital providers to supply the required financing.

Sheet 8.Cash Flow 
A2: 8.1 Cash Flow Statement for the Project
A4: Sr. | B4: Particulars | C4: Y1 | D4: Y2 | E4: Y3 | F4: Y4 | G4: Y5 | H4: Y6 | I4: Y7
A5: 1 | B5: Operating Profit
B6: Total Revnue | C6: ='6.Cons Profit & Loss'!B15 -> 23254502 | D6: ='6.Cons Profit & Loss'!C15 -> 24972164 | E6: ='6.Cons Profit & Loss'!D15 -> 26803456 | F6: ='6.Cons Profit & Loss'!E15 -> 28755447 | G6: ='6.Cons Profit & Loss'!F15 -> 30835628 | H6: ='6.Cons Profit & Loss'!G15 -> 33051939 | I6: ='6.Cons Profit & Loss'!H15 -> 35412792
A7: 2 | B7: Equity/ Share capital | C7: ='1.Project Cost and MOF'!E21 -> 6098736.5
B8: Reivestment
A9: 3 | B9: ='7.Balance Sheet'!A34 -> Smart Grant -in-Aid | C9: ='1.Project Cost and MOF'!E19 -> 29264579
A10: 4 | B10: Long Term Loan | C10: ='1.Project Cost and MOF'!E20 -> 14632290
A11: 5 | B11: Short Term Loan
A12: 6 | B12: Increase in account payable | C12: =+'7.Balance Sheet'!B25 -> 204930.81 | D12: =+'7.Balance Sheet'!C25-'7.Balance Sheet'!B25 -> 14682.709 | E12: =+'7.Balance Sheet'!D25-'7.Balance Sheet'!C25 -> 16991.858 | F12: =+'7.Balance Sheet'!E25-'7.Balance Sheet'!D25 -> 20099.392 | G12: =+'7.Balance Sheet'!F25-'7.Balance Sheet'!E25 -> 24187.258 | H12: =+'7.Balance Sheet'!G25-'7.Balance Sheet'!F25 -> 29946.139 | I12: =+'7.Balance Sheet'!H25-'7.Balance Sheet'!G25 -> 38578.541
B13: Sub Total (A) | C13: =SUM(C6:C12) -> 73455038 | D13: =SUM(D6:D12) -> 24986847 | E13: =SUM(E6:E12) -> 26820448 | F13: =SUM(F6:F12) -> 28775546 | G13: =SUM(G6:G12) -> 30859816 | H13: =SUM(H6:H12) -> 33081885 | I13: =SUM(I6:I12) -> 35451370
A14: Cash Outflow (Rs.)
A15: 1 | B15: Capital Expenditure
A16: a | B16: ='[1]Total Cost of Project'!C3 -> Land and Building | C16: ='1.Project Cost and MOF'!D5 -> 16153457
A17: b | B17: ='[1]Total Cost of Project'!C4 -> Machinery and Equipment | C17: ='1.Project Cost and MOF'!D6 -> 32237242
A18: c | B18: Furniture & Fixture | C18: ='1.Project Cost and MOF'!D7 -> 0
A19: d | B19: It Infrastructure | C19: ='1.Project Cost and MOF'!D8 -> 0
A20: e | B20: Vehicle | C20: ='1.Project Cost and MOF'!D9 -> 0
A21: f | B21: Premilinary Expenses | C21: ='1.Project Cost and MOF'!D10 -> 383600
A22: 2 | B22: Operational Expenditure
A23: a | B23: Variable Cost | C23: ='6.Cons Profit & Loss'!B25 -> 10151394 | D23: ='6.Cons Profit & Loss'!C25 -> 11412997 | E23: ='6.Cons Profit & Loss'!D25 -> 12292980 | F23: ='6.Cons Profit & Loss'!E25 -> 13332918 | G23: ='6.Cons Profit & Loss'!F25 -> 14583453 | H23: ='6.Cons Profit & Loss'!G25 -> 16129916 | I23: ='6.Cons Profit & Loss'!H25 -> 18119006
A24: b | B24: Fixed Cost | C24: ='6.Cons Profit & Loss'!B36 -> 1554800 | D24: ='6.Cons Profit & Loss'!C36 -> 1632540 | E24: ='6.Cons Profit & Loss'!D36 -> 1714167 | F24: ='6.Cons Profit & Loss'!E36 -> 1799875.4 | G24: ='6.Cons Profit & Loss'!F36 -> 1889869.1 | H24: ='6.Cons Profit & Loss'!G36 -> 1984362.6 | I24: ='6.Cons Profit & Loss'!H36 -> 2083580.7
A25: 3 | B25: Loan Repayment
B26: LTL - Principal | C26: =SUM('4.TL repayment sch'!E10:E21) -> 2587849.6 | D26: =SUM('4.TL repayment sch'!E22:E33) -> 5663108.1 | E26: =SUM('4.TL repayment sch'!E34:E45) -> 6381332 | F26: =SUM('4.TL repayment sch'!E46:E57) -> 0 | G26: =SUM('4.TL repayment sch'!E58:E69) -> 0 | H26: =SUM('4.TL repayment sch'!E70:E81) -> 0 | I26: =SUM('4.TL repayment sch'!E82:E93) -> 0
B27: LTL - Interest | C27: =SUM('4.TL repayment sch'!D10:D21) -> 1691929.5 | D27: =SUM('4.TL repayment sch'!D22:D33) -> 1140575.3 | E27: =SUM('4.TL repayment sch'!D34:D45) -> 422351.42 | F27: =SUM('4.TL repayment sch'!D46:D57) -> 0 | G27: =SUM('4.TL repayment sch'!D58:D69) -> 0 | H27: =SUM('4.TL repayment sch'!D70:D81) -> 0 | I27: =SUM('4.TL repayment sch'!D82:D93) -> 0
B28: STL - Principal | C28: =C11 -> 0 | D28: =D11 -> 0 | E28: =E11 -> 0 | F28: =F11 -> 0 | G28: =G11 -> 0 | H28: =H11 -> 0 | I28: =I11 -> 0
B29: STL - Interest | C29: =C28*12% -> 0 | D29: =D28*12% -> 0 | E29: =E28*12% -> 0 | F29: =F28*12% -> 0 | G29: =G28*12% -> 0 | H29: =H28*12% -> 0 | I29: =I28*12% -> 0
A30: 4 | B30: Tax | C30: ='6.Cons Profit & Loss'!B50 -> 865468.83 | D30: ='6.Cons Profit & Loss'!C50 -> 1337770.9 | E30: ='6.Cons Profit & Loss'!D50 -> 1948725 | F30: ='6.Cons Profit & Loss'!E50 -> 2443659.9 | G30: ='6.Cons Profit & Loss'!F50 -> 2782403.3 | H30: ='6.Cons Profit & Loss'!G50 -> 3077942.2 | I30: ='6.Cons Profit & Loss'!H50 -> 3257281.4
A31: 5 | B31: Increase in account Receivable | C31: =+'7.Balance Sheet'!B9 -> 891953.5 | D31: =+'7.Balance Sheet'!C9-'7.Balance Sheet'!B9 -> 65882.929 | E31: =+'7.Balance Sheet'!D9-'7.Balance Sheet'!C9 -> 70241.338 | F31: =+'7.Balance Sheet'!E9-'7.Balance Sheet'!D9 -> 74870.881 | G31: =+'7.Balance Sheet'!F9-'7.Balance Sheet'!E9 -> 79787.775 | H31: =+'7.Balance Sheet'!G9-'7.Balance Sheet'!F9 -> 85009.181 | I31: =+'7.Balance Sheet'!H9-'7.Balance Sheet'!G9 -> 90553.258
A32: 6 | B32: Increase in Closing Stock | C32: =+'7.Balance Sheet'!B10 -> 534283.91 | D32: =+'7.Balance Sheet'!C10-'7.Balance Sheet'!B10 -> 38279.919 | E32: =+'7.Balance Sheet'!D10-'7.Balance Sheet'!C10 -> 44300.202 | F32: =+'7.Balance Sheet'!E10-'7.Balance Sheet'!D10 -> 52401.985 | G32: =+'7.Balance Sheet'!F10-'7.Balance Sheet'!E10 -> 63059.637 | H32: =+'7.Balance Sheet'!G10-'7.Balance Sheet'!F10 -> 78073.861 | I32: =+'7.Balance Sheet'!H10-'7.Balance Sheet'!G10 -> 100579.77
B33: Sub Total (B) | C33: =SUM(C16:C32) -> 67051978 | D33: =SUM(D16:D32) -> 21291154 | E33: =SUM(E16:E32) -> 22874097 | F33: =SUM(F16:F32) -> 17703726 | G33: =SUM(G16:G32) -> 19398573 | H33: =SUM(H16:H32) -> 21355304 | I33: =SUM(I16:I32) -> 23651001
B34: Net Cash Flow (A-B) | C34: =C13-C33 -> 6403059.9 | D34: =D13-D33 -> 3695693 | E34: =E13-E33 -> 3946350.7 | F34: =F13-F33 -> 11071820 | G34: =G13-G33 -> 11461242 | H34: =H13-H33 -> 11726581 | I34: =I13-I33 -> 11800369
B35: Opening Cash and Bank | D35: =C36 -> 6403059.9 | E35: =D36 -> 10098753 | F35: =E36 -> 14045104 | G35: =F36 -> 25116923 | H35: =G36 -> 36578166 | I35: =H36 -> 48304747
B36: Cumulative Cash Balance | C36: =C34+C35 -> 6403059.9 | D36: =D34+D35 -> 10098753 | E36: =E34+E35 -> 14045104 | F36: =F34+F35 -> 25116923 | G36: =G34+G35 -> 36578166 | H36: =H34+H35 -> 48304747 | I36: =I34+I35 -> 60105116
A38: A projected cash flow statement is used to evaluate cash inflows and outflows to deter. mine when, how much, and for how long cash deficits or surpluses will exist for a farm business during an upcoming time period.

Sheet 9. Financial indiacators
B5: 9.1 Internal Rate of Return
